BEGIN:VCALENDAR
VERSION:2.0
PRODID:-//Effi Geffken &amp; Lichtenstein Band - ECPv6.15.20//NONSGML v1.0//EN
CALSCALE:GREGORIAN
METHOD:PUBLISH
X-WR-CALNAME:Effi Geffken &amp; Lichtenstein Band
X-ORIGINAL-URL:https://lichtenstein-band.de
X-WR-CALDESC:Veranstaltungen für Effi Geffken &amp; Lichtenstein Band
REFRESH-INTERVAL;VALUE=DURATION:PT1H
X-Robots-Tag:noindex
X-PUBLISHED-TTL:PT1H
BEGIN:VTIMEZONE
TZID:Europe/Berlin
BEGIN:DAYLIGHT
TZOFFSETFROM:+0100
TZOFFSETTO:+0200
TZNAME:CEST
DTSTART:20250330T010000
END:DAYLIGHT
BEGIN:STANDARD
TZOFFSETFROM:+0200
TZOFFSETTO:+0100
TZNAME:CET
DTSTART:20251026T010000
END:STANDARD
BEGIN:DAYLIGHT
TZOFFSETFROM:+0100
TZOFFSETTO:+0200
TZNAME:CEST
DTSTART:20260329T010000
END:DAYLIGHT
BEGIN:STANDARD
TZOFFSETFROM:+0200
TZOFFSETTO:+0100
TZNAME:CET
DTSTART:20261025T010000
END:STANDARD
BEGIN:DAYLIGHT
TZOFFSETFROM:+0100
TZOFFSETTO:+0200
TZNAME:CEST
DTSTART:20270328T010000
END:DAYLIGHT
BEGIN:STANDARD
TZOFFSETFROM:+0200
TZOFFSETTO:+0100
TZNAME:CET
DTSTART:20271031T010000
END:STANDARD
END:VTIMEZONE
BEGIN:VEVENT
DTSTART;TZID=Europe/Berlin:20260503T180000
DTEND;TZID=Europe/Berlin:20260503T180000
DTSTAMP:20260421T143752
CREATED:20260101T143242Z
LAST-MODIFIED:20260101T143258Z
UID:1197-1777831200-1777831200@lichtenstein-band.de
SUMMARY:Leonard Cohen Tribute Konzert
DESCRIPTION:
URL:https://lichtenstein-band.de/event/leonard-cohen-tribute-konzert-3
LOCATION:Theater im Hinterhof\, Hauptstrasse 34\, 21614 Buxtehude\, 21614
END:VEVENT
BEGIN:VEVENT
DTSTART;TZID=Europe/Berlin:20260628T170000
DTEND;TZID=Europe/Berlin:20260628T170000
DTSTAMP:20260421T143752
CREATED:20251213T122540Z
LAST-MODIFIED:20251213T122546Z
UID:1191-1782666000-1782666000@lichtenstein-band.de
SUMMARY:Leonard Cohen Tribute Konzert
DESCRIPTION:
URL:https://lichtenstein-band.de/event/leonard-cohen-tribute-konzert-2
LOCATION:Christuskirche\, Kirchstrasse 2\, 27243 Harpstedt\, 27243
END:VEVENT
BEGIN:VEVENT
DTSTART;TZID=Europe/Berlin:20260906T180000
DTEND;TZID=Europe/Berlin:20260906T180000
DTSTAMP:20260421T143752
CREATED:20260323T160846Z
LAST-MODIFIED:20260323T171227Z
UID:1205-1788717600-1788717600@lichtenstein-band.de
SUMMARY:Leonard Cohen Tribute Konzert
DESCRIPTION: 
URL:https://lichtenstein-band.de/event/leonard-cohen-tribute-konzert-4
LOCATION:Kulturkirche St. Stephani\, Stephanikirchhof 8\, 28195 Bremen
END:VEVENT
BEGIN:VEVENT
DTSTART;TZID=Europe/Berlin:20261031T180000
DTEND;TZID=Europe/Berlin:20261031T180000
DTSTAMP:20260421T143752
CREATED:20260323T162041Z
LAST-MODIFIED:20260323T173153Z
UID:1213-1793469600-1793469600@lichtenstein-band.de
SUMMARY:Leonard Cohen Tribute Konzert
DESCRIPTION:Reformationstag
URL:https://lichtenstein-band.de/event/leonard-cohen-tribute-konzert-5
LOCATION:Kapitelsaal\, Domsheide 8\, 28195 Bremen
END:VEVENT
BEGIN:VEVENT
DTSTART;TZID=Europe/Berlin:20261114T200000
DTEND;TZID=Europe/Berlin:20261114T200000
DTSTAMP:20260421T143752
CREATED:20260323T161427Z
LAST-MODIFIED:20260323T172751Z
UID:1209-1794686400-1794686400@lichtenstein-band.de
SUMMARY:Leonard Cohen Tribute Konzert
DESCRIPTION:
URL:https://lichtenstein-band.de/event/leonatd-cohen-tribute-konzert
LOCATION:Kulturverein Cultimo e.V.\, Kuhstedtermoor 24\, Gnarrenburg\, 27442
END:VEVENT
END:VCALENDAR